BEGIN:VCALENDAR
VERSION:2.0
PRODID:-//Richard Day | Renovation - ECPv6.15.12.2//NONSGML v1.0//EN
CALSCALE:GREGORIAN
METHOD:PUBLISH
X-WR-CALNAME:Richard Day | Renovation
X-ORIGINAL-URL:https://fixandfinance.com
X-WR-CALDESC:Events for Richard Day | Renovation
REFRESH-INTERVAL;VALUE=DURATION:PT1H
X-Robots-Tag:noindex
X-PUBLISHED-TTL:PT1H
BEGIN:VTIMEZONE
TZID:America/New_York
BEGIN:DAYLIGHT
TZOFFSETFROM:-0500
TZOFFSETTO:-0400
TZNAME:EDT
DTSTART:20170312T070000
END:DAYLIGHT
BEGIN:STANDARD
TZOFFSETFROM:-0400
TZOFFSETTO:-0500
TZNAME:EST
DTSTART:20171105T060000
END:STANDARD
BEGIN:DAYLIGHT
TZOFFSETFROM:-0500
TZOFFSETTO:-0400
TZNAME:EDT
DTSTART:20180311T070000
END:DAYLIGHT
BEGIN:STANDARD
TZOFFSETFROM:-0400
TZOFFSETTO:-0500
TZNAME:EST
DTSTART:20181104T060000
END:STANDARD
BEGIN:DAYLIGHT
TZOFFSETFROM:-0500
TZOFFSETTO:-0400
TZNAME:EDT
DTSTART:20190310T070000
END:DAYLIGHT
BEGIN:STANDARD
TZOFFSETFROM:-0400
TZOFFSETTO:-0500
TZNAME:EST
DTSTART:20191103T060000
END:STANDARD
END:VTIMEZONE
BEGIN:VEVENT
DTSTART;TZID=America/New_York:20181016T070000
DTEND;TZID=America/New_York:20181016T160000
DTSTAMP:20260423T180800
CREATED:20181010T175852Z
LAST-MODIFIED:20181010T183123Z
UID:618-1539673200-1539705600@fixandfinance.com
SUMMARY:All In - REALTORFest RVA
DESCRIPTION:Join us at the All In – REALTORFest RVA on October 16th 2018!\nBoth the Stony Point and Libbie Prime Lending office locations will have a booth at the event so make sure to stop by and see us! \n\nREALTORfest is a trade show featuring more than 170 exhibitors\, with a full lineup of industry experts and world-class motivational speakers.  \nFor more information\, visit REALTORfest.RARealtors.com.\n\n  \n\n\nOCTOBER 16 SCHEDULE \n\n7:30AM – 9AM  REGISTRATION\, TRADESHOW & CONTINENTAL BREAKFAST \n9AM – 10:30AM  ALL IN… THE MINDSET FOR SUCCESS WITH KEYNOTE SPEAKER MOLLY FLETCHER\n11AM – 11:45PM MATRIX 360\n11AM – 12PM THE SEVEN DEADLY SINS OF SALES WITH KEYNOTE SPEAKER LEIGH BROWN\n12PM – 1PM LUNCHEON IN SECOND FLOOR BALLROOM\n1:30PM – 2:15PM MATRIX 360\n1PM DESSERT & COFFEE BAR/TRADESHOW\n1:30PM – 3PM:  FBI – CYBER CRIME: REAL ESTATE TRANSACTIONS IN THE AGE OF WIRE FRAUD\n\nPANEL MEMBERS: FBI SPECIAL AGENT MICHAEL FRENCH; ATTORNEY MICHAEL LAFAYETTE\,\nESQ.\, LAFAYETTE\, AYERS & WHITLOCK; BRAD SIMPSON\, PRESIDENT\, BON AIR TITLE\nAGENCY\nMODERATOR: LIBBY GATEWOOD\n\n\n1:30PM – 3PM FULL HOUSE: AN INSIDER’S LOOK AT HOARDING WITH MATT PAXTON\, HOARDING EXPERT\n2:30PM – 3:30PM MEET\, GREET & BOOK SIGNING WITH LEIGH BROWN\n2:30PM – 3:15PM: MATRIX 360\n3PM – 4PM: TRADESHOW & COCKTAIL HOUR\n\n  \n 
URL:https://fixandfinance.com/event/realtor-fest-rva/
LOCATION:Greater Richmond Convention Center\, 403 N 3rd S\, Richmond\, 23219\, United States
CATEGORIES:Realtor Fest
ATTACH;FMTTYPE=image/jpeg:https://fixandfinance.com/wp-content/uploads/2018/10/allin-realtorfestrva.jpg
END:VEVENT
END:VCALENDAR