BEGIN:VCALENDAR
VERSION:2.0
PRODID:-//Richard Day | Renovation - ECPv6.15.12.2//NONSGML v1.0//EN
CALSCALE:GREGORIAN
METHOD:PUBLISH
X-ORIGINAL-URL:https://fixandfinance.com
X-WR-CALDESC:Events for Richard Day | Renovation
REFRESH-INTERVAL;VALUE=DURATION:PT1H
X-Robots-Tag:noindex
X-PUBLISHED-TTL:PT1H
BEGIN:VTIMEZONE
TZID:America/New_York
BEGIN:DAYLIGHT
TZOFFSETFROM:-0500
TZOFFSETTO:-0400
TZNAME:EDT
DTSTART:20160313T070000
END:DAYLIGHT
BEGIN:STANDARD
TZOFFSETFROM:-0400
TZOFFSETTO:-0500
TZNAME:EST
DTSTART:20161106T060000
END:STANDARD
BEGIN:DAYLIGHT
TZOFFSETFROM:-0500
TZOFFSETTO:-0400
TZNAME:EDT
DTSTART:20170312T070000
END:DAYLIGHT
BEGIN:STANDARD
TZOFFSETFROM:-0400
TZOFFSETTO:-0500
TZNAME:EST
DTSTART:20171105T060000
END:STANDARD
BEGIN:DAYLIGHT
TZOFFSETFROM:-0500
TZOFFSETTO:-0400
TZNAME:EDT
DTSTART:20180311T070000
END:DAYLIGHT
BEGIN:STANDARD
TZOFFSETFROM:-0400
TZOFFSETTO:-0500
TZNAME:EST
DTSTART:20181104T060000
END:STANDARD
BEGIN:DAYLIGHT
TZOFFSETFROM:-0500
TZOFFSETTO:-0400
TZNAME:EDT
DTSTART:20190310T070000
END:DAYLIGHT
BEGIN:STANDARD
TZOFFSETFROM:-0400
TZOFFSETTO:-0500
TZNAME:EST
DTSTART:20191103T060000
END:STANDARD
BEGIN:DAYLIGHT
TZOFFSETFROM:-0500
TZOFFSETTO:-0400
TZNAME:EDT
DTSTART:20200308T070000
END:DAYLIGHT
BEGIN:STANDARD
TZOFFSETFROM:-0400
TZOFFSETTO:-0500
TZNAME:EST
DTSTART:20201101T060000
END:STANDARD
BEGIN:DAYLIGHT
TZOFFSETFROM:-0500
TZOFFSETTO:-0400
TZNAME:EDT
DTSTART:20210314T070000
END:DAYLIGHT
BEGIN:STANDARD
TZOFFSETFROM:-0400
TZOFFSETTO:-0500
TZNAME:EST
DTSTART:20211107T060000
END:STANDARD
BEGIN:DAYLIGHT
TZOFFSETFROM:-0500
TZOFFSETTO:-0400
TZNAME:EDT
DTSTART:20220313T070000
END:DAYLIGHT
BEGIN:STANDARD
TZOFFSETFROM:-0400
TZOFFSETTO:-0500
TZNAME:EST
DTSTART:20221106T060000
END:STANDARD
BEGIN:DAYLIGHT
TZOFFSETFROM:-0500
TZOFFSETTO:-0400
TZNAME:EDT
DTSTART:20230312T070000
END:DAYLIGHT
BEGIN:STANDARD
TZOFFSETFROM:-0400
TZOFFSETTO:-0500
TZNAME:EST
DTSTART:20231105T060000
END:STANDARD
BEGIN:DAYLIGHT
TZOFFSETFROM:-0500
TZOFFSETTO:-0400
TZNAME:EDT
DTSTART:20240310T070000
END:DAYLIGHT
BEGIN:STANDARD
TZOFFSETFROM:-0400
TZOFFSETTO:-0500
TZNAME:EST
DTSTART:20241103T060000
END:STANDARD
BEGIN:DAYLIGHT
TZOFFSETFROM:-0500
TZOFFSETTO:-0400
TZNAME:EDT
DTSTART:20250309T070000
END:DAYLIGHT
BEGIN:STANDARD
TZOFFSETFROM:-0400
TZOFFSETTO:-0500
TZNAME:EST
DTSTART:20251102T060000
END:STANDARD
BEGIN:DAYLIGHT
TZOFFSETFROM:-0500
TZOFFSETTO:-0400
TZNAME:EDT
DTSTART:20260308T070000
END:DAYLIGHT
BEGIN:STANDARD
TZOFFSETFROM:-0400
TZOFFSETTO:-0500
TZNAME:EST
DTSTART:20261101T060000
END:STANDARD
BEGIN:DAYLIGHT
TZOFFSETFROM:-0500
TZOFFSETTO:-0400
TZNAME:EDT
DTSTART:20270314T070000
END:DAYLIGHT
BEGIN:STANDARD
TZOFFSETFROM:-0400
TZOFFSETTO:-0500
TZNAME:EST
DTSTART:20271107T060000
END:STANDARD
END:VTIMEZONE
BEGIN:VEVENT
DTSTART;TZID=America/New_York:20260218T143000
DTEND;TZID=America/New_York:20260218T163000
DTSTAMP:20260423T151902
CREATED:20260131T234830Z
LAST-MODIFIED:20260204T133849Z
UID:991-1771425000-1771432200@fixandfinance.com
SUMMARY:Renovation Financing: Unlocking Hidden Value in Real Estate
DESCRIPTION:In today’s competitive real estate market\, understanding renovation financing can be a game-changer for agents looking to expand their business and better serve their clients. This course provides real estate professionals with the knowledge and tools to utilize renovation loans effectively\, helping buyers transform fixer-uppers into dream homes while creating more inventory opportunities for sellers. \nWhy should you attend this class? \n\nNot every house is perfect.\nHelps you increase inventory.\nShow more houses\, sell more houses.\nCapture listings\, regardless of condition.\nHelp your buyers and sellers think outside the box.\nNever lose a deal due to the home’s condition.\nNever turn down a listing because of its condition.\nBe the hero by helping your buyers capture built-in equity.\nBroaden your approach to listing and selling houses in need.\nLearn all the ways buyers can use renovation loans.\nLearn more ways to finance home improvement.\nUnderstand energy efficiency mortgages.\nHelp your buyers buy and move a house.\nAND SO MUCH MORE…\n\nThis often overlooked or misunderstood menu of products can help you help more customers; improve neighborhoods; make dreams come true and close more transactions\, and most of all\, sell ANY property\, regardless of condition!
URL:https://fixandfinance.com/event/renovation-financing-unlocking-hidden-value-in-real-estate/
CATEGORIES:Real Estate Agents
END:VEVENT
BEGIN:VEVENT
DTSTART;TZID=America/New_York:20170615T110000
DTEND;TZID=America/New_York:20170615T123000
DTSTAMP:20260423T151902
CREATED:20170610T224515Z
LAST-MODIFIED:20170615T012000Z
UID:490-1497524400-1497529800@fixandfinance.com
SUMMARY:Ready\, Set\, Renovate with This Old House host Kevin O'Connor
DESCRIPTION:Learn from the Pros\nCome to this FREE event where renovation expert Kevin O’Connor will help you nail down a variety of renovation techniques that have been featured in several “This Old House” episodes\, and we will go over ways to finance those types of projects through.
URL:https://fixandfinance.com/event/ready-set-renovate-old-house-host-kevin-oconnor/
LOCATION:The Byrd Theatre\, 2908 W. Cary Street\, Richmond\, VA\, 23221\, United States
CATEGORIES:Existing Homeowners,Homebuyers,Real Estate Agents
ATTACH;FMTTYPE=image/png:https://fixandfinance.com/wp-content/uploads/2017/06/Kevin-360-width.png
ORGANIZER;CN="PrimeLending":MAILTO:spin2day@gmail.com
END:VEVENT
BEGIN:VEVENT
DTSTART;TZID=America/New_York:20170406T140000
DTEND;TZID=America/New_York:20170406T163000
DTSTAMP:20260423T151902
CREATED:20170327T002915Z
LAST-MODIFIED:20170327T004036Z
UID:444-1491487200-1491496200@fixandfinance.com
SUMMARY:For Real Estate Agents:  CE Class - Renovation Financing
DESCRIPTION:Roanoke Valley Association of Realtors \n 
URL:https://fixandfinance.com/event/ce-class-renovation-financing/
LOCATION:RVAR\, 4358 Starkey Road\, Roanoke\, VA\, 24018\, United States
CATEGORIES:Real Estate Agents
END:VEVENT
END:VCALENDAR