BEGIN:VCALENDAR
VERSION:2.0
PRODID:-//Richard Day | Renovation - ECPv6.15.12.2//NONSGML v1.0//EN
CALSCALE:GREGORIAN
METHOD:PUBLISH
X-WR-CALNAME:Richard Day | Renovation
X-ORIGINAL-URL:https://fixandfinance.com
X-WR-CALDESC:Events for Richard Day | Renovation
REFRESH-INTERVAL;VALUE=DURATION:PT1H
X-Robots-Tag:noindex
X-PUBLISHED-TTL:PT1H
BEGIN:VTIMEZONE
TZID:America/New_York
BEGIN:DAYLIGHT
TZOFFSETFROM:-0500
TZOFFSETTO:-0400
TZNAME:EDT
DTSTART:20160313T070000
END:DAYLIGHT
BEGIN:STANDARD
TZOFFSETFROM:-0400
TZOFFSETTO:-0500
TZNAME:EST
DTSTART:20161106T060000
END:STANDARD
BEGIN:DAYLIGHT
TZOFFSETFROM:-0500
TZOFFSETTO:-0400
TZNAME:EDT
DTSTART:20170312T070000
END:DAYLIGHT
BEGIN:STANDARD
TZOFFSETFROM:-0400
TZOFFSETTO:-0500
TZNAME:EST
DTSTART:20171105T060000
END:STANDARD
BEGIN:DAYLIGHT
TZOFFSETFROM:-0500
TZOFFSETTO:-0400
TZNAME:EDT
DTSTART:20180311T070000
END:DAYLIGHT
BEGIN:STANDARD
TZOFFSETFROM:-0400
TZOFFSETTO:-0500
TZNAME:EST
DTSTART:20181104T060000
END:STANDARD
END:VTIMEZONE
BEGIN:VEVENT
DTSTART;TZID=America/New_York:20170615T110000
DTEND;TZID=America/New_York:20170615T123000
DTSTAMP:20260423T181749
CREATED:20170610T224515Z
LAST-MODIFIED:20170615T012000Z
UID:490-1497524400-1497529800@fixandfinance.com
SUMMARY:Ready\, Set\, Renovate with This Old House host Kevin O'Connor
DESCRIPTION:Learn from the Pros\nCome to this FREE event where renovation expert Kevin O’Connor will help you nail down a variety of renovation techniques that have been featured in several “This Old House” episodes\, and we will go over ways to finance those types of projects through.
URL:https://fixandfinance.com/event/ready-set-renovate-old-house-host-kevin-oconnor/
LOCATION:The Byrd Theatre\, 2908 W. Cary Street\, Richmond\, VA\, 23221\, United States
CATEGORIES:Existing Homeowners,Homebuyers,Real Estate Agents
ATTACH;FMTTYPE=image/png:https://fixandfinance.com/wp-content/uploads/2017/06/Kevin-360-width.png
ORGANIZER;CN="PrimeLending":MAILTO:spin2day@gmail.com
END:VEVENT
END:VCALENDAR